Package: LymphoSeq Version: 1.37.0 Command: rm -rf LymphoSeq.buildbin-libdir && mkdir LymphoSeq.buildbin-libdir && F:\biocbuild\bbs-3.22-bioc\R\bin\R.exe CMD INSTALL --build --library=LymphoSeq.buildbin-libdir LymphoSeq_1.37.0.tar.gz StartedAt: 2025-08-15 10:36:24 -0400 (Fri, 15 Aug 2025) EndedAt: 2025-08-15 10:37:27 -0400 (Fri, 15 Aug 2025) EllapsedTime: 62.7 seconds RetCode: 0 Status: OK PackageFile: LymphoSeq_1.37.0.zip PackageFileSize: 1.488 MiB