Package: LoomExperiment Version: 1.27.0 Command: /home/biocbuild/bbs-3.22-bioc/R/bin/R CMD INSTALL LoomExperiment StartedAt: 2025-10-05 15:34:57 -0400 (Sun, 05 Oct 2025) EndedAt: 2025-10-05 15:35:24 -0400 (Sun, 05 Oct 2025) EllapsedTime: 27.4 seconds RetCode: 0 Status: OK