Package: LiquidAssociation Version: 1.63.0 Command: /home/biocbuild/bbs-3.22-bioc/R/bin/R CMD INSTALL LiquidAssociation StartedAt: 2025-10-15 15:30:34 -0400 (Wed, 15 Oct 2025) EndedAt: 2025-10-15 15:30:48 -0400 (Wed, 15 Oct 2025) EllapsedTime: 14.9 seconds RetCode: 0 Status: OK