Package: LiquidAssociation Version: 1.63.0 Command: /home/biocbuild/bbs-3.22-bioc/R/bin/R CMD build --keep-empty-dirs --no-resave-data --md5 LiquidAssociation StartedAt: 2025-10-16 19:23:41 -0400 (Thu, 16 Oct 2025) EndedAt: 2025-10-16 19:24:08 -0400 (Thu, 16 Oct 2025) EllapsedTime: 27.0 seconds RetCode: 0 Status: OK PackageFile: LiquidAssociation_1.63.0.tar.gz PackageFileSize: 286.6 KiB