Package: LipidTrend Version: 0.99.2 Command: /home/biocbuild/bbs-3.22-bioc/R/bin/R CMD INSTALL LipidTrend StartedAt: 2025-10-27 15:20:18 -0400 (Mon, 27 Oct 2025) EndedAt: 2025-10-27 15:20:43 -0400 (Mon, 27 Oct 2025) EllapsedTime: 25.0 seconds RetCode: 0 Status: OK