Package: Linnorm Version: 2.33.0 Command: /home/biocbuild/bbs-3.22-bioc/R/bin/R CMD INSTALL Linnorm StartedAt: 2025-10-03 15:09:53 -0400 (Fri, 03 Oct 2025) EndedAt: 2025-10-03 15:10:16 -0400 (Fri, 03 Oct 2025) EllapsedTime: 23.0 seconds RetCode: 0 Status: OK