Package: LinkHD Version: 1.23.0 Command: /home/biocbuild/bbs-3.22-bioc/R/bin/R CMD build --keep-empty-dirs --no-resave-data --md5 LinkHD StartedAt: 2025-09-30 18:20:25 -0400 (Tue, 30 Sep 2025) EndedAt: 2025-09-30 18:21:24 -0400 (Tue, 30 Sep 2025) EllapsedTime: 59.1 seconds RetCode: 0 Status: OK PackageFile: LinkHD_1.23.0.tar.gz PackageFileSize: 2.6 MiB