Package: LinkHD Version: 1.23.0 Command: rm -rf LinkHD.buildbin-libdir && mkdir LinkHD.buildbin-libdir && /Users/biocbuild/BBS/utils/build-universal.sh LinkHD_1.23.0.tar.gz /Library/Frameworks/R.framework/Resources/bin/R LinkHD.buildbin-libdir StartedAt: 2025-10-02 01:57:32 -0400 (Thu, 02 Oct 2025) EndedAt: 2025-10-02 01:58:13 -0400 (Thu, 02 Oct 2025) EllapsedTime: 40.6 seconds RetCode: 0 Status: OK PackageFile: LinkHD_1.23.0.tgz PackageFileSize: 2.187 MiB