Package: LinTInd Version: 1.13.0 Command: rm -rf LinTInd.buildbin-libdir && mkdir LinTInd.buildbin-libdir && F:\biocbuild\bbs-3.22-bioc\R\bin\R.exe CMD INSTALL --build --library=LinTInd.buildbin-libdir LinTInd_1.13.0.tar.gz StartedAt: 2025-05-09 08:57:27 -0400 (Fri, 09 May 2025) EndedAt: 2025-05-09 08:58:05 -0400 (Fri, 09 May 2025) EllapsedTime: 38.1 seconds RetCode: 0 Status: OK PackageFile: LinTInd_1.13.0.zip PackageFileSize: 577.4 KiB