Package: LimROTS Version: 1.1.4 Command: /home/biocbuild/bbs-3.22-bioc/R/bin/R CMD INSTALL LimROTS StartedAt: 2025-10-08 16:10:58 -0400 (Wed, 08 Oct 2025) EndedAt: 2025-10-08 16:11:33 -0400 (Wed, 08 Oct 2025) EllapsedTime: 35.5 seconds RetCode: 0 Status: OK