Package: LimROTS Version: 1.1.4 Command: /home/biocbuild/bbs-3.22-bioc/R/bin/R CMD build --keep-empty-dirs --no-resave-data --md5 LimROTS StartedAt: 2025-10-08 18:45:46 -0400 (Wed, 08 Oct 2025) EndedAt: 2025-10-08 18:47:02 -0400 (Wed, 08 Oct 2025) EllapsedTime: 76.1 seconds RetCode: 0 Status: OK PackageFile: LimROTS_1.1.4.tar.gz PackageFileSize: 765.2 KiB