Package: Lheuristic Version: 1.1.0 Command: /home/biocbuild/bbs-3.22-bioc/R/bin/R CMD INSTALL Lheuristic StartedAt: 2025-10-08 15:35:32 -0400 (Wed, 08 Oct 2025) EndedAt: 2025-10-08 15:36:01 -0400 (Wed, 08 Oct 2025) EllapsedTime: 29.8 seconds RetCode: 0 Status: OK