Package: Lheuristic Version: 1.1.0 Command: /home/biocbuild/bbs-3.22-bioc/R/bin/R CMD build --keep-empty-dirs --no-resave-data --md5 Lheuristic StartedAt: 2025-10-08 18:45:27 -0400 (Wed, 08 Oct 2025) EndedAt: 2025-10-08 18:46:09 -0400 (Wed, 08 Oct 2025) EllapsedTime: 42.1 seconds RetCode: 0 Status: OK PackageFile: Lheuristic_1.1.0.tar.gz PackageFileSize: 570.4 KiB