Package: Lheuristic Version: 1.3.0 Command: /Library/Frameworks/R.framework/Resources/bin/R CMD INSTALL Lheuristic StartedAt: 2025-11-18 15:25:58 -0500 (Tue, 18 Nov 2025) EndedAt: 2025-11-18 15:26:10 -0500 (Tue, 18 Nov 2025) EllapsedTime: 11.7 seconds RetCode: 0 Status: OK