Package: Lheuristic Version: 1.3.0 Command: rm -rf Lheuristic.buildbin-libdir && mkdir Lheuristic.buildbin-libdir && /Users/biocbuild/BBS/utils/build-universal.sh Lheuristic_1.3.0.tar.gz /Library/Frameworks/R.framework/Resources/bin/R Lheuristic.buildbin-libdir StartedAt: 2025-11-18 23:46:12 -0500 (Tue, 18 Nov 2025) EndedAt: 2025-11-18 23:46:26 -0500 (Tue, 18 Nov 2025) EllapsedTime: 13.3 seconds RetCode: 0 Status: OK PackageFile: Lheuristic_1.3.0.tgz PackageFileSize: 665.6 KiB