Package: LedPred Version: 1.41.0 Command: E:\biocbuild\bbs-3.21-bioc\R\bin\R.exe CMD check --no-multiarch --install=check:LedPred.install-out.txt --library=E:\biocbuild\bbs-3.21-bioc\R\library --no-vignettes --timings LedPred_1.41.0.tar.gz StartedAt: 2025-02-04 02:50:23 -0500 (Tue, 04 Feb 2025) EndedAt: 2025-02-04 02:51:38 -0500 (Tue, 04 Feb 2025) EllapsedTime: 75.0 seconds RetCode: 0 Status: OK CheckDir: LedPred.Rcheck Warnings: 0