Package: LedPred Version: 1.41.0 Command: rm -rf LedPred.buildbin-libdir && mkdir LedPred.buildbin-libdir && /Users/biocbuild/BBS/utils/build-universal.sh LedPred_1.41.0.tar.gz /Library/Frameworks/R.framework/Resources/bin/R LedPred.buildbin-libdir StartedAt: 2025-02-04 00:40:33 -0500 (Tue, 04 Feb 2025) EndedAt: 2025-02-04 00:40:54 -0500 (Tue, 04 Feb 2025) EllapsedTime: 20.8 seconds RetCode: 0 Status: OK PackageFile: LedPred_1.41.0.tgz PackageFileSize: 1.684 MiB