Package: LRcell Version: 1.17.0 Command: /Library/Frameworks/R.framework/Resources/bin/R CMD INSTALL LRcell StartedAt: 2025-10-15 15:32:35 -0400 (Wed, 15 Oct 2025) EndedAt: 2025-10-15 15:32:59 -0400 (Wed, 15 Oct 2025) EllapsedTime: 23.6 seconds RetCode: 0 Status: OK