Package: LRcell Version: 1.17.0 Command: /Library/Frameworks/R.framework/Resources/bin/R CMD INSTALL LRcell StartedAt: 2025-10-07 15:10:13 -0400 (Tue, 07 Oct 2025) EndedAt: 2025-10-07 15:10:20 -0400 (Tue, 07 Oct 2025) EllapsedTime: 7.0 seconds RetCode: 0 Status: OK