Package: LRcell Version: 1.17.0 Command: /Library/Frameworks/R.framework/Resources/bin/R CMD build --keep-empty-dirs --no-resave-data LRcell StartedAt: 2025-10-07 16:52:46 -0400 (Tue, 07 Oct 2025) EndedAt: 2025-10-07 16:53:13 -0400 (Tue, 07 Oct 2025) EllapsedTime: 27.3 seconds RetCode: 0 Status: OK PackageFile: LRcell_1.17.0.tar.gz PackageFileSize: 1.036 MiB