Package: LRBaseDbi Version: 2.19.0 Command: /Library/Frameworks/R.framework/Resources/bin/R CMD build --keep-empty-dirs --no-resave-data LRBaseDbi StartedAt: 2025-05-08 17:19:05 -0400 (Thu, 08 May 2025) EndedAt: 2025-05-08 17:19:33 -0400 (Thu, 08 May 2025) EllapsedTime: 27.5 seconds RetCode: 1 Status: ERROR PackageFile: None PackageFileSize: NA