Package: LPE Version: 1.83.0 Command: /home/biocbuild/bbs-3.22-bioc/R/bin/R CMD INSTALL LPE StartedAt: 2025-10-12 15:03:02 -0400 (Sun, 12 Oct 2025) EndedAt: 2025-10-12 15:03:18 -0400 (Sun, 12 Oct 2025) EllapsedTime: 16.6 seconds RetCode: 0 Status: OK