Package: LPE Version: 1.83.0 Command: /Library/Frameworks/R.framework/Resources/bin/R CMD check --install=check:LPE.install-out.txt --library=/Library/Frameworks/R.framework/Resources/library --no-vignettes --timings LPE_1.83.0.tar.gz StartedAt: 2025-05-02 20:08:26 -0400 (Fri, 02 May 2025) EndedAt: 2025-05-02 20:08:40 -0400 (Fri, 02 May 2025) EllapsedTime: 13.2 seconds RetCode: 0 Status: OK CheckDir: LPE.Rcheck Warnings: 0