Package: LOLA Version: 1.37.0 Command: E:\biocbuild\bbs-3.21-bioc\R\bin\R.exe CMD check --no-multiarch --install=check:LOLA.install-out.txt --library=E:\biocbuild\bbs-3.21-bioc\R\library --no-vignettes --timings LOLA_1.37.0.tar.gz StartedAt: 2025-02-21 02:44:21 -0500 (Fri, 21 Feb 2025) EndedAt: 2025-02-21 02:46:24 -0500 (Fri, 21 Feb 2025) EllapsedTime: 123.6 seconds RetCode: 0 Status: OK CheckDir: LOLA.Rcheck Warnings: 0