Package: LOLA Version: 1.39.1 Command: /home/biocbuild/bbs-3.22-bioc/R/bin/R CMD INSTALL LOLA StartedAt: 2025-10-03 15:14:35 -0400 (Fri, 03 Oct 2025) EndedAt: 2025-10-03 15:14:45 -0400 (Fri, 03 Oct 2025) EllapsedTime: 10.1 seconds RetCode: 0 Status: OK