Package: LOLA Version: 1.37.0 Command: /home/biocbuild/bbs-3.21-bioc/R/bin/R CMD build --keep-empty-dirs --no-resave-data LOLA StartedAt: 2025-02-03 18:01:48 -0500 (Mon, 03 Feb 2025) EndedAt: 2025-02-03 18:02:07 -0500 (Mon, 03 Feb 2025) EllapsedTime: 19.0 seconds RetCode: 0 Status: OK PackageFile: LOLA_1.37.0.tar.gz PackageFileSize: 1.11 MiB