Package: LOLA Version: 1.37.0 Command: /Library/Frameworks/R.framework/Resources/bin/R CMD check --install=check:LOLA.install-out.txt --library=/Library/Frameworks/R.framework/Resources/library --no-vignettes --timings LOLA_1.37.0.tar.gz StartedAt: 2025-02-20 21:18:42 -0500 (Thu, 20 Feb 2025) EndedAt: 2025-02-20 21:20:34 -0500 (Thu, 20 Feb 2025) EllapsedTime: 111.2 seconds RetCode: 0 Status: OK CheckDir: LOLA.Rcheck Warnings: 0