Package: LOLA Version: 1.37.0 Command: /home/biocbuild/R/R/bin/R CMD build --keep-empty-dirs --no-resave-data LOLA StartedAt: 2025-01-28 23:56:43 -0000 (Tue, 28 Jan 2025) EndedAt: 2025-01-28 23:57:10 -0000 (Tue, 28 Jan 2025) EllapsedTime: 27.0 seconds RetCode: 0 Status: OK PackageFile: LOLA_1.37.0.tar.gz PackageFileSize: 1.18 MiB