Package: LOLA Version: 1.37.0 Command: /Library/Frameworks/R.framework/Resources/bin/R CMD INSTALL LOLA StartedAt: 2025-02-05 15:04:36 -0500 (Wed, 05 Feb 2025) EndedAt: 2025-02-05 15:04:40 -0500 (Wed, 05 Feb 2025) EllapsedTime: 4.8 seconds RetCode: 0 Status: OK