Package: LOLA Version: 1.37.0 Command: /Library/Frameworks/R.framework/Resources/bin/R CMD check --install=check:LOLA.install-out.txt --library=/Library/Frameworks/R.framework/Resources/library --no-vignettes --timings LOLA_1.37.0.tar.gz StartedAt: 2025-02-05 19:58:26 -0500 (Wed, 05 Feb 2025) EndedAt: 2025-02-05 19:59:02 -0500 (Wed, 05 Feb 2025) EllapsedTime: 36.8 seconds RetCode: 0 Status: OK CheckDir: LOLA.Rcheck Warnings: 0