Package: LOLA Version: 1.37.0 Command: /Library/Frameworks/R.framework/Resources/bin/R CMD build --keep-empty-dirs --no-resave-data LOLA StartedAt: 2025-02-05 16:47:48 -0500 (Wed, 05 Feb 2025) EndedAt: 2025-02-05 16:47:57 -0500 (Wed, 05 Feb 2025) EllapsedTime: 9.1 seconds RetCode: 0 Status: OK PackageFile: LOLA_1.37.0.tar.gz PackageFileSize: 1.11 MiB