Package: LOBSTAHS Version: 1.35.1 Command: /home/biocbuild/bbs-3.22-bioc/R/bin/R CMD build --keep-empty-dirs --no-resave-data --md5 LOBSTAHS StartedAt: 2025-10-01 18:44:26 -0400 (Wed, 01 Oct 2025) EndedAt: 2025-10-01 18:45:32 -0400 (Wed, 01 Oct 2025) EllapsedTime: 66.1 seconds RetCode: 0 Status: OK PackageFile: LOBSTAHS_1.35.1.tar.gz PackageFileSize: 2.904 MiB