Package: LOBSTAHS Version: 1.33.0 Command: /home/biocbuild/bbs-3.21-bioc/R/bin/R CMD INSTALL LOBSTAHS StartedAt: 2025-02-09 15:44:56 -0500 (Sun, 09 Feb 2025) EndedAt: 2025-02-09 15:45:44 -0500 (Sun, 09 Feb 2025) EllapsedTime: 47.4 seconds RetCode: 0 Status: OK