Package: LOBSTAHS Version: 1.33.0 Command: /home/biocbuild/bbs-3.21-bioc/R/bin/R CMD build --keep-empty-dirs --no-resave-data LOBSTAHS StartedAt: 2025-02-04 17:50:45 -0500 (Tue, 04 Feb 2025) EndedAt: 2025-02-04 17:51:49 -0500 (Tue, 04 Feb 2025) EllapsedTime: 64.1 seconds RetCode: 0 Status: OK PackageFile: LOBSTAHS_1.33.0.tar.gz PackageFileSize: 2.902 MiB