Package: LOBSTAHS Version: 1.33.0 Command: /home/biocbuild/R/R/bin/R CMD check --install=check:LOBSTAHS.install-out.txt --library=/home/biocbuild/R/R/site-library --no-vignettes --timings LOBSTAHS_1.33.0.tar.gz StartedAt: 2025-01-28 11:56:48 -0000 (Tue, 28 Jan 2025) EndedAt: 2025-01-28 12:03:59 -0000 (Tue, 28 Jan 2025) EllapsedTime: 430.6 seconds RetCode: 0 Status: WARNINGS CheckDir: LOBSTAHS.Rcheck Warnings: 1