Package: LOBSTAHS Version: 1.33.0 Command: /home/biocbuild/R/R/bin/R CMD build --keep-empty-dirs --no-resave-data LOBSTAHS StartedAt: 2025-01-28 23:56:39 -0000 (Tue, 28 Jan 2025) EndedAt: 2025-01-28 23:58:05 -0000 (Tue, 28 Jan 2025) EllapsedTime: 86.0 seconds RetCode: 0 Status: OK PackageFile: LOBSTAHS_1.33.0.tar.gz PackageFileSize: 2.903 MiB