Package: LEA Version: 3.19.4 Command: /home/biocbuild/R/R/bin/R CMD check --install=check:LEA.install-out.txt --library=/home/biocbuild/R/R/site-library --no-vignettes --timings LEA_3.19.4.tar.gz StartedAt: 2025-01-28 11:53:53 -0000 (Tue, 28 Jan 2025) EndedAt: 2025-01-28 11:56:29 -0000 (Tue, 28 Jan 2025) EllapsedTime: 156.2 seconds RetCode: 0 Status: OK CheckDir: LEA.Rcheck Warnings: 0