Package: LEA Version: 3.21.0 Command: rm -rf LEA.buildbin-libdir && mkdir LEA.buildbin-libdir && /Users/biocbuild/BBS/utils/build-universal.sh LEA_3.21.0.tar.gz /Library/Frameworks/R.framework/Resources/bin/R LEA.buildbin-libdir StartedAt: 2025-10-14 23:26:34 -0400 (Tue, 14 Oct 2025) EndedAt: 2025-10-14 23:26:43 -0400 (Tue, 14 Oct 2025) EllapsedTime: 9.2 seconds RetCode: 0 Status: OK PackageFile: LEA_3.21.0.tgz PackageFileSize: 959 KiB