Package: LBE Version: 1.77.0 Command: /home/biocbuild/bbs-3.22-bioc/R/bin/R CMD INSTALL LBE StartedAt: 2025-10-09 15:05:13 -0400 (Thu, 09 Oct 2025) EndedAt: 2025-10-09 15:05:25 -0400 (Thu, 09 Oct 2025) EllapsedTime: 12.1 seconds RetCode: 0 Status: OK