Package: LACHESIS Version: 0.99.4 Command: /Library/Frameworks/R.framework/Resources/bin/R CMD INSTALL LACHESIS StartedAt: 2025-11-24 15:08:07 -0500 (Mon, 24 Nov 2025) EndedAt: 2025-11-24 15:08:15 -0500 (Mon, 24 Nov 2025) EllapsedTime: 7.5 seconds RetCode: 0 Status: OK