Package: LACHESIS Version: 0.99.4 Command: /Library/Frameworks/R.framework/Resources/bin/R CMD build --keep-empty-dirs --no-resave-data LACHESIS StartedAt: 2025-11-24 16:52:18 -0500 (Mon, 24 Nov 2025) EndedAt: 2025-11-24 16:53:25 -0500 (Mon, 24 Nov 2025) EllapsedTime: 66.7 seconds RetCode: 0 Status: OK PackageFile: LACHESIS_0.99.4.tar.gz PackageFileSize: 3.66 MiB