Package: LACE Version: 2.13.0 Command: rm -rf LACE.buildbin-libdir && mkdir LACE.buildbin-libdir && F:\biocbuild\bbs-3.22-bioc\R\bin\R.exe CMD INSTALL --build --library=LACE.buildbin-libdir LACE_2.13.0.tar.gz StartedAt: 2025-08-15 10:34:23 -0400 (Fri, 15 Aug 2025) EndedAt: 2025-08-15 10:35:25 -0400 (Fri, 15 Aug 2025) EllapsedTime: 61.5 seconds RetCode: 0 Status: OK PackageFile: LACE_2.13.0.zip PackageFileSize: 2.931 MiB