Package: LACE Version: 2.11.0 Command: E:\biocbuild\bbs-3.21-bioc\R\bin\R.exe CMD INSTALL LACE StartedAt: 2025-02-16 15:56:44 -0500 (Sun, 16 Feb 2025) EndedAt: 2025-02-16 15:57:41 -0500 (Sun, 16 Feb 2025) EllapsedTime: 57.0 seconds RetCode: 0 Status: OK