Package: LACE Version: 2.11.0 Command: E:\biocbuild\bbs-3.21-bioc\R\bin\R.exe CMD check --no-multiarch --install=check:LACE.install-out.txt --library=E:\biocbuild\bbs-3.21-bioc\R\library --no-vignettes --timings LACE_2.11.0.tar.gz StartedAt: 2025-02-17 02:12:09 -0500 (Mon, 17 Feb 2025) EndedAt: 2025-02-17 02:17:06 -0500 (Mon, 17 Feb 2025) EllapsedTime: 296.8 seconds RetCode: 0 Status: OK CheckDir: LACE.Rcheck Warnings: 0