Package: LACE Version: 2.11.0 Command: /home/biocbuild/R/R/bin/R CMD INSTALL LACE StartedAt: 2025-01-29 20:12:55 -0000 (Wed, 29 Jan 2025) EndedAt: 2025-01-29 20:13:42 -0000 (Wed, 29 Jan 2025) EllapsedTime: 46.4 seconds RetCode: 0 Status: OK