Package: LACE Version: 2.11.0 Command: /home/biocbuild/R/R/bin/R CMD check --install=check:LACE.install-out.txt --library=/home/biocbuild/R/R/site-library --no-vignettes --timings LACE_2.11.0.tar.gz StartedAt: 2025-01-28 11:53:37 -0000 (Tue, 28 Jan 2025) EndedAt: 2025-01-28 11:58:19 -0000 (Tue, 28 Jan 2025) EllapsedTime: 282.4 seconds RetCode: 0 Status: WARNINGS CheckDir: LACE.Rcheck Warnings: 5