Package: LACE Version: 2.11.0 Command: /home/biocbuild/R/R/bin/R CMD build --keep-empty-dirs --no-resave-data LACE StartedAt: 2025-01-28 23:53:28 -0000 (Tue, 28 Jan 2025) EndedAt: 2025-01-28 23:54:40 -0000 (Tue, 28 Jan 2025) EllapsedTime: 72.0 seconds RetCode: 0 Status: OK PackageFile: LACE_2.11.0.tar.gz PackageFileSize: 4.146 MiB