Package: LACE Version: 2.11.0 Command: /Library/Frameworks/R.framework/Resources/bin/R CMD INSTALL LACE StartedAt: 2025-02-16 15:18:10 -0500 (Sun, 16 Feb 2025) EndedAt: 2025-02-16 15:18:23 -0500 (Sun, 16 Feb 2025) EllapsedTime: 13.2 seconds RetCode: 0 Status: OK