Package: KnowSeq Version: 1.23.0 Command: rm -rf KnowSeq.buildbin-libdir && mkdir KnowSeq.buildbin-libdir && F:\biocbuild\bbs-3.22-bioc\R\bin\R.exe CMD INSTALL --build --library=KnowSeq.buildbin-libdir KnowSeq_1.23.0.tar.gz StartedAt: 2025-08-15 10:34:15 -0400 (Fri, 15 Aug 2025) EndedAt: 2025-08-15 10:35:20 -0400 (Fri, 15 Aug 2025) EllapsedTime: 64.6 seconds RetCode: 0 Status: OK PackageFile: KnowSeq_1.23.0.zip PackageFileSize: 6.154 MiB