Package: KinSwingR Version: 1.27.0 Command: rm -rf KinSwingR.buildbin-libdir && mkdir KinSwingR.buildbin-libdir && F:\biocbuild\bbs-3.22-bioc\R\bin\R.exe CMD INSTALL --build --library=KinSwingR.buildbin-libdir KinSwingR_1.27.0.tar.gz StartedAt: 2025-08-15 10:34:04 -0400 (Fri, 15 Aug 2025) EndedAt: 2025-08-15 10:34:18 -0400 (Fri, 15 Aug 2025) EllapsedTime: 14.1 seconds RetCode: 0 Status: OK PackageFile: KinSwingR_1.27.0.zip PackageFileSize: 617.7 KiB